BEGIN:VCALENDAR
VERSION:2.0
PRODID:-//REDSUN - ECPv6.15.20//NONSGML v1.0//EN
CALSCALE:GREGORIAN
METHOD:PUBLISH
X-WR-CALNAME:REDSUN
X-ORIGINAL-URL:https://www.redsun-knzw.com
X-WR-CALDESC:REDSUN のイベント
REFRESH-INTERVAL;VALUE=DURATION:PT1H
X-Robots-Tag:noindex
X-PUBLISHED-TTL:PT1H
BEGIN:VTIMEZONE
TZID:Asia/Tokyo
BEGIN:STANDARD
TZOFFSETFROM:+0900
TZOFFSETTO:+0900
TZNAME:JST
DTSTART:20250101T000000
END:STANDARD
END:VTIMEZONE
BEGIN:VEVENT
DTSTART;TZID=Asia/Tokyo:20260719T140000
DTEND;TZID=Asia/Tokyo:20260719T233000
DTSTAMP:20260420T015345
CREATED:20260312T065420Z
LAST-MODIFIED:20260316T134212Z
UID:3748-1784469600-1784503800@www.redsun-knzw.com
SUMMARY:ANIMEBREAK 10th ANNIVERSARY
DESCRIPTION:7/19 (Sun.) \n\n\n\nOpen 14:00 / CLOSE 20:00 \n\n\n\n\n\n\n\n\n \n\n\n\n \n\n\n\nチケット\n\n\n\n前売り当日4\,000円5\,000円\n\n\n\n※ドリンク代別：500円 \n\n\n\n\nチケットのご購入はこちらから🎫\n\n\n\n\n出演
URL:https://www.redsun-knzw.com/event/3748/
ATTACH;FMTTYPE=image/jpeg:https://www.redsun-knzw.com/cms/wp-content/uploads/2026/03/15d5be83a82452448cb7feaa4ee79c5e.jpg
END:VEVENT
END:VCALENDAR